BEGIN:VCALENDAR
PRODID:-//Microsoft Corporation//Outlook 12.0 MIMEDIR//EN
VERSION:2.0
CALSCALE:GREGORIAN
BEGIN:VEVENT
UID: 4198a3e3-bf20-4232-a1a3-f164335eb428
SUMMARY:Kuldliiga kergejõustikus Iisakus
DTSTAMP:20250515
DTSTART:20250515
DTEND:20250516
DURATION:P1D
LOCATION:
DESCRIPTION: <p><strong>Link: </strong>https://illuka.edu.ee/et/sundmuste-kalender/kuldliiga-kergejoustikus-iisakus</p><p><strong>Hind: </strong></p>
STATUS:CONFIRMED
SEQUENCE:3
X-ALT-DESC;FMTTYPE=text/html:<p><strong>Link: </strong>https://illuka.edu.ee/et/sundmuste-kalender/kuldliiga-kergejoustikus-iisakus</p><p><strong>Hind: </strong></p>
X-MICROSOFT-CDO-BUSYSTATUS:OOF
X-MICROSOFT-CDO-IMPORTANCE:1
X-MICROSOFT-DISALLOW-COUNTER:FALSE
X-MS-OLK-ALLOWEXTERNCHECK:TRUE
X-MS-OLK-CONFTYPE:0
X-MICROSOFT-CDO-ALLDAYEVENT:1
X-MICROSOFT-MSNCALENDAR-ALLDAYEVENT:1
END:VEVENT
END:VCALENDAR